BEGIN:VCALENDAR
VERSION:2.0
PRODID:-//Meditationsverein - ECPv6.15.18//NONSGML v1.0//EN
CALSCALE:GREGORIAN
METHOD:PUBLISH
X-WR-CALNAME:Meditationsverein
X-ORIGINAL-URL:https://meditationsverein.com
X-WR-CALDESC:Veranstaltungen für Meditationsverein
REFRESH-INTERVAL;VALUE=DURATION:PT1H
X-Robots-Tag:noindex
X-PUBLISHED-TTL:PT1H
BEGIN:VTIMEZONE
TZID:Europe/Berlin
BEGIN:DAYLIGHT
TZOFFSETFROM:+0100
TZOFFSETTO:+0200
TZNAME:CEST
DTSTART:20240331T010000
END:DAYLIGHT
BEGIN:STANDARD
TZOFFSETFROM:+0200
TZOFFSETTO:+0100
TZNAME:CET
DTSTART:20241027T010000
END:STANDARD
BEGIN:DAYLIGHT
TZOFFSETFROM:+0100
TZOFFSETTO:+0200
TZNAME:CEST
DTSTART:20250330T010000
END:DAYLIGHT
BEGIN:STANDARD
TZOFFSETFROM:+0200
TZOFFSETTO:+0100
TZNAME:CET
DTSTART:20251026T010000
END:STANDARD
BEGIN:DAYLIGHT
TZOFFSETFROM:+0100
TZOFFSETTO:+0200
TZNAME:CEST
DTSTART:20260329T010000
END:DAYLIGHT
BEGIN:STANDARD
TZOFFSETFROM:+0200
TZOFFSETTO:+0100
TZNAME:CET
DTSTART:20261025T010000
END:STANDARD
END:VTIMEZONE
BEGIN:VEVENT
DTSTART;TZID=Europe/Berlin:20250526T080000
DTEND;TZID=Europe/Berlin:20250526T170000
DTSTAMP:20260422T113330
CREATED:20250520T123542Z
LAST-MODIFIED:20250520T123542Z
UID:10000468-1748246400-1748278800@meditationsverein.com
SUMMARY:St Johanneskirche - Jesusgebet
DESCRIPTION:„Das Jesusgebet“ – ein spiritueller Weg\n„Hilf mir Gott\, durch deinen Namen“ (Psalm 54\,3) – Impuls-Hinführung-Meditation-Erfahrungsaustausch \nDie immerwährende Wiederholung des Heiligen Namens führt uns Schritt für Schritt in den Raum des Schweigens und zur Begegnung mit Gott und uns selbst. Die Wurzeln des „Jesusgebetes“\, auch „Herzensgebet“ genannt\, reichen zurück bis ins frühe Mönchtum. Im Angesicht einer Christusikone wiederholen wir im Herzen im Rhythmus unseres Atems unaufhörlich den Namen Jesu. Die Aufmerksamkeit auf den Heiligen Namen und das Sitzen im Schweigen bringen Körper\, Geist und Seele immer mehr in die Ruhe. Die Kraft des Heiligen Namens bringt uns in Berührung mit der Christuskraft. Im Licht der Gegenwart Gottes erkennen wir immer mehr\, wer wir sind. Unsere Fragen nach dem Woher? Wohin? und Wozu? Unseres Lebens erfahren eine tiefe Antwort. Vielen ist die Meditation mit dem „Jesusgebet“am Montagabend ein Ort geworden\, an dem sie nach einem anstrengenden Arbeitstag ganz zur Ruhe kommen und neue Kraft schöpfen können. Wenn Sie sich uns anschließen möchten\, rufen Sie doch einfach an! \nZeit: 19:00–20:30 Uhr \nRaum: Meditationsraum \nLeitung: Gertrud Knauer\, Tel.: 089/6928497
URL:https://meditationsverein.com/veranstaltung/st-johanneskirche-jesusgebet/2025-05-26/1/
LOCATION:St Johanneskirche (Haidhausen\, München)\, Preysingplatz\, München\, München\, 81667\, Germany
CATEGORIES:Regelmäßige Angebote
GEO:48.1327272;11.5939379
X-APPLE-STRUCTURED-LOCATION;VALUE=URI;X-ADDRESS=St Johanneskirche (Haidhausen München) Preysingplatz München München 81667 Germany;X-APPLE-RADIUS=500;X-TITLE=Preysingplatz:geo:11.5939379,48.1327272
END:VEVENT
BEGIN:VEVENT
DTSTART;TZID=Europe/Berlin:20250526T190000
DTEND;TZID=Europe/Berlin:20250526T203000
DTSTAMP:20260422T113330
CREATED:20250520T123542Z
LAST-MODIFIED:20250520T123542Z
UID:10000469-1748286000-1748291400@meditationsverein.com
SUMMARY:St Johanneskirche - Jesusgebet
DESCRIPTION:„Das Jesusgebet“ – ein spiritueller Weg\n„Hilf mir Gott\, durch deinen Namen“ (Psalm 54\,3) – Impuls-Hinführung-Meditation-Erfahrungsaustausch \nDie immerwährende Wiederholung des Heiligen Namens führt uns Schritt für Schritt in den Raum des Schweigens und zur Begegnung mit Gott und uns selbst. Die Wurzeln des „Jesusgebetes“\, auch „Herzensgebet“ genannt\, reichen zurück bis ins frühe Mönchtum. Im Angesicht einer Christusikone wiederholen wir im Herzen im Rhythmus unseres Atems unaufhörlich den Namen Jesu. Die Aufmerksamkeit auf den Heiligen Namen und das Sitzen im Schweigen bringen Körper\, Geist und Seele immer mehr in die Ruhe. Die Kraft des Heiligen Namens bringt uns in Berührung mit der Christuskraft. Im Licht der Gegenwart Gottes erkennen wir immer mehr\, wer wir sind. Unsere Fragen nach dem Woher? Wohin? und Wozu? Unseres Lebens erfahren eine tiefe Antwort. Vielen ist die Meditation mit dem „Jesusgebet“am Montagabend ein Ort geworden\, an dem sie nach einem anstrengenden Arbeitstag ganz zur Ruhe kommen und neue Kraft schöpfen können. Wenn Sie sich uns anschließen möchten\, rufen Sie doch einfach an! \nZeit: 19:00–20:30 Uhr \nRaum: Meditationsraum \nLeitung: Gertrud Knauer\, Tel.: 089/6928497
URL:https://meditationsverein.com/veranstaltung/st-johanneskirche-jesusgebet/2025-05-26/2/
LOCATION:St Johanneskirche (Haidhausen\, München)\, Preysingplatz\, München\, München\, 81667\, Germany
CATEGORIES:Regelmäßige Angebote
GEO:48.1327272;11.5939379
X-APPLE-STRUCTURED-LOCATION;VALUE=URI;X-ADDRESS=St Johanneskirche (Haidhausen München) Preysingplatz München München 81667 Germany;X-APPLE-RADIUS=500;X-TITLE=Preysingplatz:geo:11.5939379,48.1327272
END:VEVENT
END:VCALENDAR