BEGIN:VCALENDAR
VERSION:2.0
PRODID:-//Meditationsverein - ECPv6.15.18//NONSGML v1.0//EN
CALSCALE:GREGORIAN
METHOD:PUBLISH
X-WR-CALNAME:Meditationsverein
X-ORIGINAL-URL:https://meditationsverein.com
X-WR-CALDESC:Veranstaltungen für Meditationsverein
REFRESH-INTERVAL;VALUE=DURATION:PT1H
X-Robots-Tag:noindex
X-PUBLISHED-TTL:PT1H
BEGIN:VTIMEZONE
TZID:Europe/Berlin
BEGIN:DAYLIGHT
TZOFFSETFROM:+0100
TZOFFSETTO:+0200
TZNAME:CEST
DTSTART:20290325T010000
END:DAYLIGHT
BEGIN:STANDARD
TZOFFSETFROM:+0200
TZOFFSETTO:+0100
TZNAME:CET
DTSTART:20291028T010000
END:STANDARD
BEGIN:DAYLIGHT
TZOFFSETFROM:+0100
TZOFFSETTO:+0200
TZNAME:CEST
DTSTART:20300331T010000
END:DAYLIGHT
BEGIN:STANDARD
TZOFFSETFROM:+0200
TZOFFSETTO:+0100
TZNAME:CET
DTSTART:20301027T010000
END:STANDARD
BEGIN:DAYLIGHT
TZOFFSETFROM:+0100
TZOFFSETTO:+0200
TZNAME:CEST
DTSTART:20310330T010000
END:DAYLIGHT
BEGIN:STANDARD
TZOFFSETFROM:+0200
TZOFFSETTO:+0100
TZNAME:CET
DTSTART:20311026T010000
END:STANDARD
END:VTIMEZONE
BEGIN:VEVENT
DTSTART;TZID=Europe/Berlin:20300301T150000
DTEND;TZID=Europe/Berlin:20300301T170000
DTSTAMP:20260419T163221
CREATED:20250513T164635Z
LAST-MODIFIED:20250520T125414Z
UID:10001816-1898607600-1898614800@meditationsverein.com
SUMMARY:St Martin - Schweigemeditation
DESCRIPTION:„Schweigemeditation“\nTermine: jeden Freitag (außer in den Schulferien) \nZeit: 15 bis 17 Uhr \, Einlass jeweils zur halben und zur ganzen Stunde \nAnmeldung nicht erforderlich \nKostenbeitrag: Freiwilliger Betrag erbeten \nOrt: Meditationsraum
URL:https://meditationsverein.com/veranstaltung/st-martin-schweigemeditation/2030-03-01/
LOCATION:Spirituelles Zentrum St Martin (Glockenbachviertel\, München)\, Arndtstraße 8\, München\, München\, 80469\, Germany
CATEGORIES:Regelmäßige Angebote
ORGANIZER;CN="Maike Schmau%C3%9F":MAILTO:https://www.stmartin-muenchen.de/meditation.html
GEO:48.1251705;11.5676546
X-APPLE-STRUCTURED-LOCATION;VALUE=URI;X-ADDRESS=Spirituelles Zentrum St Martin (Glockenbachviertel München) Arndtstraße 8 München München 80469 Germany;X-APPLE-RADIUS=500;X-TITLE=Arndtstraße 8:geo:11.5676546,48.1251705
END:VEVENT
BEGIN:VEVENT
DTSTART;TZID=Europe/Berlin:20300308T150000
DTEND;TZID=Europe/Berlin:20300308T170000
DTSTAMP:20260419T163221
CREATED:20250513T164635Z
LAST-MODIFIED:20250520T125414Z
UID:10001817-1899212400-1899219600@meditationsverein.com
SUMMARY:St Martin - Schweigemeditation
DESCRIPTION:„Schweigemeditation“\nTermine: jeden Freitag (außer in den Schulferien) \nZeit: 15 bis 17 Uhr \, Einlass jeweils zur halben und zur ganzen Stunde \nAnmeldung nicht erforderlich \nKostenbeitrag: Freiwilliger Betrag erbeten \nOrt: Meditationsraum
URL:https://meditationsverein.com/veranstaltung/st-martin-schweigemeditation/2030-03-08/
LOCATION:Spirituelles Zentrum St Martin (Glockenbachviertel\, München)\, Arndtstraße 8\, München\, München\, 80469\, Germany
CATEGORIES:Regelmäßige Angebote
ORGANIZER;CN="Maike Schmau%C3%9F":MAILTO:https://www.stmartin-muenchen.de/meditation.html
GEO:48.1251705;11.5676546
X-APPLE-STRUCTURED-LOCATION;VALUE=URI;X-ADDRESS=Spirituelles Zentrum St Martin (Glockenbachviertel München) Arndtstraße 8 München München 80469 Germany;X-APPLE-RADIUS=500;X-TITLE=Arndtstraße 8:geo:11.5676546,48.1251705
END:VEVENT
BEGIN:VEVENT
DTSTART;TZID=Europe/Berlin:20300315T150000
DTEND;TZID=Europe/Berlin:20300315T170000
DTSTAMP:20260419T163221
CREATED:20250513T164635Z
LAST-MODIFIED:20250520T125414Z
UID:10001818-1899817200-1899824400@meditationsverein.com
SUMMARY:St Martin - Schweigemeditation
DESCRIPTION:„Schweigemeditation“\nTermine: jeden Freitag (außer in den Schulferien) \nZeit: 15 bis 17 Uhr \, Einlass jeweils zur halben und zur ganzen Stunde \nAnmeldung nicht erforderlich \nKostenbeitrag: Freiwilliger Betrag erbeten \nOrt: Meditationsraum
URL:https://meditationsverein.com/veranstaltung/st-martin-schweigemeditation/2030-03-15/
LOCATION:Spirituelles Zentrum St Martin (Glockenbachviertel\, München)\, Arndtstraße 8\, München\, München\, 80469\, Germany
CATEGORIES:Regelmäßige Angebote
ORGANIZER;CN="Maike Schmau%C3%9F":MAILTO:https://www.stmartin-muenchen.de/meditation.html
GEO:48.1251705;11.5676546
X-APPLE-STRUCTURED-LOCATION;VALUE=URI;X-ADDRESS=Spirituelles Zentrum St Martin (Glockenbachviertel München) Arndtstraße 8 München München 80469 Germany;X-APPLE-RADIUS=500;X-TITLE=Arndtstraße 8:geo:11.5676546,48.1251705
END:VEVENT
BEGIN:VEVENT
DTSTART;TZID=Europe/Berlin:20300322T150000
DTEND;TZID=Europe/Berlin:20300322T170000
DTSTAMP:20260419T163221
CREATED:20250513T164635Z
LAST-MODIFIED:20250520T125414Z
UID:10001819-1900422000-1900429200@meditationsverein.com
SUMMARY:St Martin - Schweigemeditation
DESCRIPTION:„Schweigemeditation“\nTermine: jeden Freitag (außer in den Schulferien) \nZeit: 15 bis 17 Uhr \, Einlass jeweils zur halben und zur ganzen Stunde \nAnmeldung nicht erforderlich \nKostenbeitrag: Freiwilliger Betrag erbeten \nOrt: Meditationsraum
URL:https://meditationsverein.com/veranstaltung/st-martin-schweigemeditation/2030-03-22/
LOCATION:Spirituelles Zentrum St Martin (Glockenbachviertel\, München)\, Arndtstraße 8\, München\, München\, 80469\, Germany
CATEGORIES:Regelmäßige Angebote
ORGANIZER;CN="Maike Schmau%C3%9F":MAILTO:https://www.stmartin-muenchen.de/meditation.html
GEO:48.1251705;11.5676546
X-APPLE-STRUCTURED-LOCATION;VALUE=URI;X-ADDRESS=Spirituelles Zentrum St Martin (Glockenbachviertel München) Arndtstraße 8 München München 80469 Germany;X-APPLE-RADIUS=500;X-TITLE=Arndtstraße 8:geo:11.5676546,48.1251705
END:VEVENT
BEGIN:VEVENT
DTSTART;TZID=Europe/Berlin:20300329T150000
DTEND;TZID=Europe/Berlin:20300329T170000
DTSTAMP:20260419T163221
CREATED:20250513T164635Z
LAST-MODIFIED:20250520T125414Z
UID:10001820-1901026800-1901034000@meditationsverein.com
SUMMARY:St Martin - Schweigemeditation
DESCRIPTION:„Schweigemeditation“\nTermine: jeden Freitag (außer in den Schulferien) \nZeit: 15 bis 17 Uhr \, Einlass jeweils zur halben und zur ganzen Stunde \nAnmeldung nicht erforderlich \nKostenbeitrag: Freiwilliger Betrag erbeten \nOrt: Meditationsraum
URL:https://meditationsverein.com/veranstaltung/st-martin-schweigemeditation/2030-03-29/
LOCATION:Spirituelles Zentrum St Martin (Glockenbachviertel\, München)\, Arndtstraße 8\, München\, München\, 80469\, Germany
CATEGORIES:Regelmäßige Angebote
ORGANIZER;CN="Maike Schmau%C3%9F":MAILTO:https://www.stmartin-muenchen.de/meditation.html
GEO:48.1251705;11.5676546
X-APPLE-STRUCTURED-LOCATION;VALUE=URI;X-ADDRESS=Spirituelles Zentrum St Martin (Glockenbachviertel München) Arndtstraße 8 München München 80469 Germany;X-APPLE-RADIUS=500;X-TITLE=Arndtstraße 8:geo:11.5676546,48.1251705
END:VEVENT
END:VCALENDAR